BEGIN:VCALENDAR
VERSION:2.0
PRODID:-//ChamberMaster//Event Calendar 2.0//EN
METHOD:PUBLISH
X-PUBLISHED-TTL:P3D
REFRESH-INTERVAL:P3D
CALSCALE:GREGORIAN
BEGIN:VEVENT
DTSTART:20160325T210000Z
DTEND:20160325T220000Z
X-MICROSOFT-CDO-ALLDAYEVENT:FALSE
SUMMARY:Good Friday Service
DESCRIPTION:We invite you to join us as we contemplate Jesus's suffering and death for our sins on Friday March 25 at 5:00 p.m.
X-ALT-DESC;FMTTYPE=text/html:<strong>We invite you to join us as we contemplate Jesus&#39\;s suffering and death for our sins on Friday March 25 at 5:00 p.m. </strong>
LOCATION:83 Earl Shelton Rd. Blairsville\, GA
UID:e.256.49853
SEQUENCE:3
DTSTAMP:20260421T035747Z
URL:https://members.visitblairsvillega.com/events/details/good-friday-service-03-25-2016-49853
END:VEVENT

END:VCALENDAR
