BEGIN:VCALENDAR
VERSION:2.0
PRODID:-//ChamberMaster//Event Calendar 2.0//EN
METHOD:PUBLISH
X-PUBLISHED-TTL:P3D
REFRESH-INTERVAL:P3D
CALSCALE:GREGORIAN
BEGIN:VEVENT
DTSTART:20140717T223000Z
DTEND:20140717T223000Z
X-MICROSOFT-CDO-ALLDAYEVENT:FALSE
SUMMARY:Good Neighbor Car Club Monthly Meeting
DESCRIPTION:Good Neighbor Car Club Monthly Meeting\n\nContact Marcus Tuschel at 706-835-9010 for meeting information.
X-ALT-DESC;FMTTYPE=text/html:Good Neighbor Car Club Monthly Meeting<br />\nContact Marcus Tuschel at 706-835-9010 for meeting information.
LOCATION:Meeks Park - 1st Pavilion Blairsville\, GA
UID:e.256.24410
SEQUENCE:3
DTSTAMP:20260424T092608Z
URL:https://members.visitblairsvillega.com/events/details/good-neighbor-car-club-monthly-meeting-07-17-2014-24410
END:VEVENT

END:VCALENDAR
