BEGIN:VCALENDAR
VERSION:2.0
PRODID:-//ChamberMaster//Event Calendar 2.0//EN
METHOD:PUBLISH
X-PUBLISHED-TTL:P3D
REFRESH-INTERVAL:P3D
CALSCALE:GREGORIAN
BEGIN:VEVENT
DTSTART:20151015T223000Z
DTEND:20151015T233000Z
X-MICROSOFT-CDO-ALLDAYEVENT:FALSE
SUMMARY:Good Neighbor's Car Club
DESCRIPTION:
X-ALT-DESC;FMTTYPE=text/html:
LOCATION:Ingles Cafe\, Blairsville
UID:e.256.40295
SEQUENCE:3
DTSTAMP:20260423T103723Z
URL:https://members.visitblairsvillega.com/events/details/good-neighbor-s-car-club-10-15-2015-40295
END:VEVENT

END:VCALENDAR
