BEGIN:VCALENDAR
VERSION:2.0
PRODID:-//ChamberMaster//Event Calendar 2.0//EN
METHOD:PUBLISH
X-PUBLISHED-TTL:P3D
REFRESH-INTERVAL:P3D
CALSCALE:GREGORIAN
BEGIN:VEVENT
DTSTART:20140417T223000Z
DTEND:20140417T233000Z
X-MICROSOFT-CDO-ALLDAYEVENT:FALSE
SUMMARY:Good Neighbors Auto Club Meeting
DESCRIPTION:Good Neighbor Car Club Monthly Meeting\n\nContact Marcus Tuschel at 706-835-9010 for meeting information.
X-ALT-DESC;FMTTYPE=text/html:Good Neighbor Car Club Monthly Meeting<br />\nContact Marcus Tuschel at 706-835-9010 for meeting information.<span _fck_bookmark="1" style="display: none\;">&nbsp\;</span>
LOCATION:November through April we meet at Brother's Restaurant in Murphy.
UID:e.256.20542
SEQUENCE:3
DTSTAMP:20260424T135625Z
URL:https://members.visitblairsvillega.com/events/details/good-neighbors-auto-club-meeting-04-17-2014-20542
END:VEVENT

END:VCALENDAR
