BEGIN:VCALENDAR
VERSION:2.0
PRODID:-//ChamberMaster//Event Calendar 2.0//EN
METHOD:PUBLISH
X-PUBLISHED-TTL:P3D
REFRESH-INTERVAL:P3D
CALSCALE:GREGORIAN
BEGIN:VEVENT
DTSTART:20150416T223000Z
DTEND:20150416T223000Z
X-MICROSOFT-CDO-ALLDAYEVENT:FALSE
SUMMARY:Good Neighbors Auto Club Monthly Meeting
DESCRIPTION:Good Neighbor Car Club Monthly Meeting\n\nContact Marcus Tuschel at 706-835-9010 for meeting information.
X-ALT-DESC;FMTTYPE=text/html:Good Neighbor Car Club Monthly Meeting<br />\nContact Marcus Tuschel at 706-835-9010 for meeting information.
LOCATION:October through April we meet at Steve's Steakhouse
UID:e.256.24430
SEQUENCE:3
DTSTAMP:20260423T212548Z
URL:https://members.visitblairsvillega.com/events/details/good-neighbors-auto-club-monthly-meeting-04-16-2015-24430
END:VEVENT

END:VCALENDAR
