BEGIN:VCALENDAR
VERSION:2.0
PRODID:-//ChamberMaster//Event Calendar 2.0//EN
METHOD:PUBLISH
X-PUBLISHED-TTL:P3D
REFRESH-INTERVAL:P3D
CALSCALE:GREGORIAN
BEGIN:VEVENT
DTSTART:20151017T120000Z
DTEND:20151017T200000Z
X-MICROSOFT-CDO-ALLDAYEVENT:FALSE
SUMMARY:Good Neighbors Car Show
DESCRIPTION:More than 200 cars and antique cars "Show Off" at the Good Neighbors Auto Show.
X-ALT-DESC;FMTTYPE=text/html:More than 200 cars and antique cars &quot\;Show Off&quot\; at the Good Neighbors Auto Show.
LOCATION:United Community Bank Parking Lot Hwy 515E Blairsville\, GA
UID:e.256.27733
SEQUENCE:3
DTSTAMP:20260423T103646Z
URL:https://members.visitblairsvillega.com/events/details/good-neighbors-car-show-10-17-2015-27733
END:VEVENT

END:VCALENDAR
