BEGIN:VCALENDAR
VERSION:2.0
PRODID:-//ChamberMaster//Event Calendar 2.0//EN
METHOD:PUBLISH
X-PUBLISHED-TTL:P3D
REFRESH-INTERVAL:P3D
CALSCALE:GREGORIAN
BEGIN:VEVENT
DTSTART:20140307T163000Z
DTEND:20140307T183000Z
X-MICROSOFT-CDO-ALLDAYEVENT:FALSE
SUMMARY:Google Apps for Business Success
DESCRIPTION:Google Apps for Business Success \n\n\n\nPresented by Jonathan Fleischer of Firm Answers Now\n\n\n\nLearn about 10 Google apps that can be used immediately in your business to enhance its performance and save you time and money.  No experience with Google or Google apps necessary.  Everyone is welcome to bring their device.
X-ALT-DESC;FMTTYPE=text/html:<span style="font-family: arial\;"><span style="font-size: 10pt\;"><strong>Google Apps for Business Success </strong></span><br />\n<br />\n<span style="font-size: 10pt\;">Presented by Jonathan Fleischer of <span style="font-size: 10pt\;">Firm Answers Now</span></span><br />\n<br />\n<span style="font-size: 10pt\;">Learn about 10 Google apps that can be used immediately in your business to enhance its performance and save you time and money.&nbsp\; No experience with Google or Google apps necessary.&nbsp\; Everyone is welcome to bring their device.</span></span><br />\n&nbsp\;
LOCATION:Union County Community Center 129 Union County Rec Rd Blairsville\, GA
UID:e.256.22933
SEQUENCE:3
DTSTAMP:20260424T151952Z
URL:https://members.visitblairsvillega.com/events/details/google-apps-for-business-success-03-07-2014-22933
END:VEVENT

END:VCALENDAR
