BEGIN:VCALENDAR
VERSION:2.0
PRODID:-//ChamberMaster//Event Calendar 2.0//EN
METHOD:PUBLISH
X-PUBLISHED-TTL:P3D
REFRESH-INTERVAL:P3D
CALSCALE:GREGORIAN
BEGIN:VEVENT
DTSTART:20170411T153000Z
DTEND:20170411T170000Z
X-MICROSOFT-CDO-ALLDAYEVENT:FALSE
SUMMARY:Google - Get Your Business Online
DESCRIPTION:Google's "Get Your Business Online" Seminar\n\n(Hosted by Towns County & Blairsville-Union County Chambers of Commerce)\n\nOver 70% of Google searches are for local businesses\, local shops\, stores\, restaurants\, and more.  "Get Your Business Online" is a program that is dedicated to helping business owners show up online when people are searching for a business just like theirs.  Chris Reidenbaugh\, a certified Google consultant\, will demonstrate how to manage your Google presence as well as help generate calls and emails. In this seminar\, you will learn how to effectively manage how you appear online\, respond to reviews\, and get insights into analytics about how people are finding you online. Each attendee will receive a bag filled with pens\, notepads\, Google postcards\, and Google adwords credits to help you get started. \n\nAttendees are encouraged to bring a "brown bag" lunch and take this opportunity to learn and network with area businesses and organizations.
X-ALT-DESC;FMTTYPE=text/html:<div style="text-align: center\;">&nbsp\;</div>\n\n<div style="text-align: center\;"><span style="font-size: medium\;"><span style="font-family: times new roman\;"><strong>Google&#39\;s &quot\;Get Your Business Online&quot\; Seminar<br />\n<span style="font-size: 12px\;">(Hosted by Towns County &amp\; Blairsville-Union County Chambers of Commerce)</span></strong></span></span></div>\n\n<div><span style="font-size: medium\;"><span style="font-family: times new roman\;">Over 70% of Google searches are for local businesses\, local shops\, stores\, restaurants\, and more.&nbsp\; &quot\;Get Your Business Online&quot\; is a program that is dedicated to helping business owners show up online when people are searching for a business just like theirs.&nbsp\; Chris Reidenbaugh\, a certified Google consultant\,&nbsp\;will demonstrate how to manage your Google presence&nbsp\;as well as help generate calls and emails. In this seminar\, you will learn how to effectively manage how you appear online\, respond to reviews\, and get insights into analytics about how people are finding you online. Each attendee will receive a bag filled with pens\, notepads\, Google postcards\, and Google adwords&nbsp\;credits to help you get started.&nbsp\;<br />\nAttendees are encouraged to bring a &quot\;brown bag&quot\; lunch and take this opportunity to learn and network with&nbsp\;area businesses and organizations.</span></span></div>\n\n<div style="text-align: center\;">&nbsp\;<br />\n&nbsp\;<br />\n&nbsp\;</div>\n
LOCATION:Town's County Convention & Recreation Center 150 Foster Park Road Young Harris\, GA 30582
UID:e.256.69121
SEQUENCE:3
DTSTAMP:20260420T023853Z
URL:https://members.visitblairsvillega.com/events/details/google-get-your-business-online-69121
END:VEVENT

END:VCALENDAR
