BEGIN:VCALENDAR
VERSION:2.0
PRODID:-//ChamberMaster//Event Calendar 2.0//EN
METHOD:PUBLISH
X-PUBLISHED-TTL:P3D
REFRESH-INTERVAL:P3D
CALSCALE:GREGORIAN
BEGIN:VEVENT
DTSTART:20160226T150000Z
DTEND:20160226T170000Z
X-MICROSOFT-CDO-ALLDAYEVENT:FALSE
SUMMARY:Grafting Workshop
DESCRIPTION:Supplies will be provided for each participant to graft several apple scions with appropriate root stock to take home. Our presenter is Dr. David Lockwood\, UGA Extension Fruit Specialist and UT Extension Fruit & Nit Crops Specialist. This workshop is limited to 50 participants\, and registration is required.
X-ALT-DESC;FMTTYPE=text/html:Supplies will be provided for each participant to graft several apple scions with appropriate root stock to take home. Our presenter is Dr. David Lockwood\, UGA Extension Fruit Specialist and UT Extension Fruit &amp\; Nit Crops Specialist. This workshop is limited to 50 participants\, and registration is required.
LOCATION:The Georgia Mountain Research & Education Center\, 3 miles south of the Blairsville Square\, on the east side of Hwy 19/129.
UID:e.256.46193
SEQUENCE:3
DTSTAMP:20260421T035612Z
URL:https://members.visitblairsvillega.com/events/details/grafting-workshop-02-26-2016-46193
END:VEVENT

END:VCALENDAR
