BEGIN:VCALENDAR
VERSION:2.0
PRODID:-//ChamberMaster//Event Calendar 2.0//EN
METHOD:PUBLISH
X-PUBLISHED-TTL:P3D
REFRESH-INTERVAL:P3D
CALSCALE:GREGORIAN
BEGIN:VEVENT
DTSTART:20140912T153000Z
DTEND:20140912T163000Z
X-MICROSOFT-CDO-ALLDAYEVENT:FALSE
SUMMARY:Grand Opening and Ribbon Cutting for Austin Blu
DESCRIPTION:You're Invited!  Grand Opening and Ribbon Cutting!\n\nRibbon Cutting for Austin Blu on Friday\, September 12\, 2014 at 11:30am.\n\nAustin Blu a brand new ladies apparel store located at 6A Town Square in the renovated Kings 5 & 10 downtown Blairsville. Austin Blu takes pride in dressing all shapes and sizes of the everyday woman!
X-ALT-DESC;FMTTYPE=text/html:<span style="font-family: tahoma\;"><span style="font-size: 12px\;">You&#39\;re Invited!&nbsp\; Grand Opening and Ribbon Cutting!<br />\nRibbon Cutting for Austin Blu on Friday\, September 12\, 2014 at 11:30am.<br />\nAustin Blu a brand new ladies apparel store located&nbsp\;at 6A Town Square in&nbsp\;the renovated Kings 5 &amp\; 10 downtown Blairsville. Austin Blu takes pride in dressing all shapes and sizes of the everyday woman! </span><br />\n&nbsp\;</span>
LOCATION:Austin Blu 6A Town Square Blairsville
UID:e.256.25455
SEQUENCE:3
DTSTAMP:20260424T063110Z
URL:https://members.visitblairsvillega.com/events/details/grand-opening-and-ribbon-cutting-for-austin-blu-09-12-2014-25455
END:VEVENT

END:VCALENDAR
