BEGIN:VCALENDAR
VERSION:2.0
PRODID:-//ChamberMaster//Event Calendar 2.0//EN
METHOD:PUBLISH
X-PUBLISHED-TTL:P3D
REFRESH-INTERVAL:P3D
CALSCALE:GREGORIAN
BEGIN:VEVENT
DTSTART:20150416T130000Z
DTEND:20150416T213000Z
X-MICROSOFT-CDO-ALLDAYEVENT:FALSE
SUMMARY:Grand Opening - Gift Baskets of Joy.com
DESCRIPTION:We look forward to servicing you with quality gifts\, you'll love the uniqueness of our baskets\, crafts and services.
X-ALT-DESC;FMTTYPE=text/html:We look forward to servicing you with quality gifts\, you&#39\;ll love the uniqueness of our baskets\, crafts and services.
LOCATION:37A Young Harris St Blairsville\, GA 30512
UID:e.256.38096
SEQUENCE:3
DTSTAMP:20260423T212050Z
URL:https://members.visitblairsvillega.com/events/details/grand-opening-gift-baskets-of-joy-com-04-16-2015-38096
END:VEVENT

END:VCALENDAR
