BEGIN:VCALENDAR
VERSION:2.0
PRODID:-//ChamberMaster//Event Calendar 2.0//EN
METHOD:PUBLISH
X-PUBLISHED-TTL:P3D
REFRESH-INTERVAL:P3D
CALSCALE:GREGORIAN
BEGIN:VEVENT
DTSTART:20160226T160000Z
DTEND:20160227T013000Z
X-MICROSOFT-CDO-ALLDAYEVENT:FALSE
SUMMARY:GRAND OPENING OF MONET'S GAME ROOM
DESCRIPTION:COME ONE COME ALL AND JOIN US FOR THE GRAND OPENING OF MONET'S GAME ROOM. POOL TABLE\,\n\nDARTBOARD\, 5 T.V.'S AND MORE TO COME. PLUS DON'T FORGET OUR 14 DRAFT BEERS AND GOOD SELECTION OF WINE.
X-ALT-DESC;FMTTYPE=text/html:COME ONE COME ALL AND JOIN US FOR THE GRAND OPENING OF MONET&#39\;S GAME ROOM. POOL TABLE\,<br />\nDARTBOARD\, 5 T.V.&#39\;S AND MORE TO COME. PLUS DON&#39\;T FORGET OUR 14 DRAFT BEERS AND GOOD SELECTION OF WINE.
LOCATION:130 BLUE RIDGE STREET\, BLAIRSVILLE\, GA.
UID:e.256.49619
SEQUENCE:3
DTSTAMP:20260421T040549Z
URL:https://members.visitblairsvillega.com/events/details/grand-opening-of-monet-s-game-room-02-26-2016-49619
END:VEVENT

END:VCALENDAR
