BEGIN:VCALENDAR
VERSION:2.0
PRODID:-//ChamberMaster//Event Calendar 2.0//EN
METHOD:PUBLISH
X-PUBLISHED-TTL:P3D
REFRESH-INTERVAL:P3D
CALSCALE:GREGORIAN
BEGIN:VEVENT
DTSTART:20141003T150000Z
DTEND:20141003T160000Z
X-MICROSOFT-CDO-ALLDAYEVENT:FALSE
SUMMARY:Grand Opening of New Kiln Studio and Classroom at Blue Ridge Art Center
DESCRIPTION:Blue Ridge Mountains Arts Association invites you to the Grand Opening of our new Kiln Studio and Classroom To kick off our 2014 American Craft Week celebrations and in honor of National Arts & Humanities Month\, we invite you to join us for a ribbon cutting of our new Kiln Studio and classroom at the Art Center. Come tour our new studio space and classroom as we embark on a new clay and glass program. When FRIDAY October 3\, 2014 From 11am - 12pm Where The Art Center 420 West Main Street Blue Ridge\, GA 30513 (706) 632-2144 www.blueridgearts.net
X-ALT-DESC;FMTTYPE=text/html:Blue Ridge Mountains Arts Association invites you to the Grand Opening of our new Kiln Studio and Classroom To kick off our 2014 American Craft Week celebrations and in honor of National Arts &amp\; Humanities Month\, we invite you to join us for a ribbon cutting of our new Kiln Studio and classroom at the Art Center. Come tour our new studio space and classroom as we embark on a new clay and glass program. When FRIDAY October 3\, 2014 From 11am - 12pm Where The Art Center 420 West Main Street Blue Ridge\, GA 30513 (706) 632-2144 www.blueridgearts.net
LOCATION:The Art Center 420 West Main Street Blue Ridge\, GA
UID:e.256.27479
SEQUENCE:3
DTSTAMP:20260424T063733Z
URL:https://members.visitblairsvillega.com/events/details/grand-opening-of-new-kiln-studio-and-classroom-at-blue-ridge-art-center-10-03-2014-27479
END:VEVENT

END:VCALENDAR
