BEGIN:VCALENDAR
VERSION:2.0
PRODID:-//ChamberMaster//Event Calendar 2.0//EN
METHOD:PUBLISH
X-PUBLISHED-TTL:P3D
REFRESH-INTERVAL:P3D
CALSCALE:GREGORIAN
BEGIN:VEVENT
DTSTART:20160812T230000Z
DTEND:20160813T030000Z
X-MICROSOFT-CDO-ALLDAYEVENT:FALSE
SUMMARY:Grand Opening - The Cove @ Nottely Boat Club
DESCRIPTION:Grand Opening of the Cove at Nottely Boat Club featuring Stephen Phillips & Midnight Express
X-ALT-DESC;FMTTYPE=text/html:Grand Opening of the Cove at Nottely Boat Club featuring Stephen Phillips &amp\; Midnight Express
LOCATION:The Cove at Nottely Boat Club 3036 State Hwy 325 Blairsville\, Ga 30512
UID:e.256.54492
SEQUENCE:3
DTSTAMP:20260420T165242Z
URL:https://members.visitblairsvillega.com/events/details/grand-opening-the-cove-nottely-boat-club-08-12-2016-54492
END:VEVENT

END:VCALENDAR
