BEGIN:VCALENDAR
VERSION:2.0
PRODID:-//ChamberMaster//Event Calendar 2.0//EN
METHOD:PUBLISH
X-PUBLISHED-TTL:P3D
REFRESH-INTERVAL:P3D
CALSCALE:GREGORIAN
BEGIN:VEVENT
DTSTART:20150912T170000Z
DTEND:20150912T200000Z
X-MICROSOFT-CDO-ALLDAYEVENT:FALSE
SUMMARY:Grapes and Grace Charity Wine Festival
DESCRIPTION:To benefit The Sharing Center Food Bank.\n\nWine Tastings provided by Cherokee Cellars Winery\, Odom Springs Vineyards\, and Valley River Vineyards. Restaurants serving food include: Brothers\, Chop House\, Papa's Pizza\, The Red Brick Deli\, and Shoebooties.\n\nSponsors: Farley Insurance\, King Ford\, Curtis Signs\, Coke-a-Cola\, Cherokee Scout
X-ALT-DESC;FMTTYPE=text/html:<span style="font-size: 12pt\;"><span style="font-family: calibri\;">To benefit The Sharing Center Food Bank.</span></span><br />\n<span style="font-size: 12pt\;"><span style="font-family: calibri\;">Wine Tastings provided by Cherokee Cellars Winery\, Odom Springs Vineyards\, and Valley River Vineyards. Restaurants serving food include: Brothers\, Chop House\, Papa&rsquo\;s Pizza\, The Red Brick Deli\, and Shoebooties.</span></span><br />\n<span style="font-size: 12pt\;"><span style="font-family: calibri\;"><strong>Sponsors: </strong>Farley Insurance\, King Ford\, Curtis Signs\, Coke-a-Cola\, Cherokee Scout </span></span><br />\n&nbsp\;
LOCATION:Cherokee Cellars Winery 23 Hickory St. Downtown Murphy\, NC.
UID:e.256.43441
SEQUENCE:3
DTSTAMP:20260423T122447Z
URL:https://members.visitblairsvillega.com/events/details/grapes-and-grace-charity-wine-festival-09-12-2015-43441
END:VEVENT

END:VCALENDAR
