BEGIN:VCALENDAR
VERSION:2.0
PRODID:-//ChamberMaster//Event Calendar 2.0//EN
METHOD:PUBLISH
X-PUBLISHED-TTL:P3D
REFRESH-INTERVAL:P3D
CALSCALE:GREGORIAN
BEGIN:VEVENT
DTSTART:20140726T110000Z
DTEND:20140726T200000Z
X-MICROSOFT-CDO-ALLDAYEVENT:FALSE
SUMMARY:Green Bean Festival
DESCRIPTION:Green Bean Festival Agenda\n\n\n\n7 am   Opening\n\n\n\nPrior to 9 am   Canning Contest Entries\n\n\n\n9:30 am   10:30 am Judging of Canning Contest\n\n\n\n10:00 am   10:50 am Raven & Red\n\n\n\n10:55 am  Announcement of Canning Contest Winners\n\n\n\n10:00 am -11:30 am Mr. Green Bean in Kid's Area\n\n\n\n11:00 am   11:45 am Kids Sack Races in Kids Area\n\n\n\n11:45 am   12:00 noon Bonnet and Hat Parade and Announcement of Winners\n\n\n\n12:05 pm   12:50 pm  Sammy Ensley Music\n\n\n\n12:05 pm   1:00 pm Water Quality and Water Critters in Butternut Creek\n\n   Plan on getting wet and catching aquatic animals\n\n\n\n1:00 pm - 1:45 pm Wash Board Band\n\n\n\n1:15 pm   3:00 pm  Mr. Green Bean Photo Ops\n\n\n\n1:30 pm   2:30 pm Green Bean Pizza Eating Contest\n\n\n\n2:00 pm   2:30 pm Kazoo Band\n\n\n\n2:00 pm   2:45 PM Water Balloon Toss in Kids Area\n\n\n\n4:00 pm   Close
X-ALT-DESC;FMTTYPE=text/html:<p align="left">Green Bean Festival Agenda<br />\n<br />\n7 am&nbsp\;&nbsp\;&nbsp\;Opening<br />\n<br />\nPrior to 9 am &nbsp\;&nbsp\;Canning Contest Entries<br />\n<br />\n9:30 am &ndash\; 10:30 am&nbsp\;Judging of Canning Contest<br />\n<br />\n10:00 am &ndash\; 10:50 am&nbsp\;Raven &amp\; Red<br />\n<br />\n10:55 am&nbsp\;&nbsp\;Announcement of Canning Contest Winners<br />\n<br />\n10:00 am -11:30 am&nbsp\;Mr. Green Bean in Kid&rsquo\;s Area<br />\n<br />\n11:00 am &ndash\; 11:45 am&nbsp\;Kids Sack Races in Kids Area<br />\n<br />\n11:45 am &ndash\; 12:00 noon&nbsp\;Bonnet and Hat Parade and Announcement of Winners<br />\n<br />\n12:05 pm &ndash\; 12:50 pm &nbsp\;Sammy Ensley Music<br />\n<br />\n12:05 pm &ndash\; 1:00 pm&nbsp\;Water Quality and Water Critters in Butternut Creek<br />\n&nbsp\;&nbsp\;&nbsp\;Plan on getting wet and catching aquatic animals<br />\n<br />\n1:00 pm - 1:45 pm&nbsp\;Wash Board Band<br />\n<br />\n1:15 pm &ndash\; 3:00 pm &nbsp\;Mr. Green Bean Photo Ops<br />\n<br />\n1:30 pm &ndash\; 2:30 pm&nbsp\;Green Bean Pizza Eating Contest<br />\n<br />\n2:00 pm &ndash\; 2:30 pm&nbsp\;Kazoo Band<br />\n<br />\n2:00 pm &ndash\; 2:45 PM&nbsp\;Water Balloon Toss in Kids Area<br />\n<br />\n4:00 pm&nbsp\;&nbsp\;&nbsp\;Close</p>\n
LOCATION:Union County Farmers Market 148 Old Smokey Rd.\, off Weaver Rd. Blairsville\, GA
UID:e.256.23370
SEQUENCE:3
DTSTAMP:20260424T091953Z
URL:https://members.visitblairsvillega.com/events/details/green-bean-festival-07-26-2014-23370
END:VEVENT

END:VCALENDAR
