BEGIN:VCALENDAR
VERSION:2.0
PRODID:-//ChamberMaster//Event Calendar 2.0//EN
METHOD:PUBLISH
X-PUBLISHED-TTL:P3D
REFRESH-INTERVAL:P3D
CALSCALE:GREGORIAN
BEGIN:VEVENT
DTSTART:20150124T180000Z
DTEND:20150124T210000Z
X-MICROSOFT-CDO-ALLDAYEVENT:FALSE
SUMMARY:Greeting Card Class
DESCRIPTION:Mountain Regional Arts & Crafts Guild is pleased to announce a workshop in card making to be held at their ArtWorks Artisan Centre in Hiawassee on Saturday\, January 24th.  Class size is limited\, insuring individualized instruction.  \n\nAre you tired of paying a fortune for cards at the store?  Instructor Kaye Teronde of Hayesville\, NC will be teaching five different cards during this one day workshop.  Come join her at ArtWorks for an afternoon of great fun and creativity.  Students will learn rubber stamping in combination with a variety of other techniques to make handmade cards which you can keep or send to friends and family.  All skill levels are welcome.
X-ALT-DESC;FMTTYPE=text/html:<p style="margin: 0in 0in 8pt\;"><span style="font-size: 14px\;"><span style="font-family: tahoma\;"><span style="color: black\;">Mountain Regional Arts &amp\; Crafts Guild is pleased to announce a workshop in card making to be held at their ArtWorks Artisan Centre in Hiawassee on Saturday\, January 24<sup>th</sup>.&nbsp\; Class size is limited\, insuring individualized instruction.&nbsp\; </span></span></span></p>\n\n<p style="margin: 0in 0in 8pt\;"><span style="font-size: 14px\;"><span style="font-family: tahoma\;"><span style="color: black\;">Are you tired of paying a fortune for cards at the store?&nbsp\; Instructor Kaye Teronde of Hayesville\, NC will be teaching five different cards during this one day workshop.&nbsp\; Come join her at ArtWorks for an afternoon of great fun and creativity.&nbsp\; Students will learn rubber stamping in combination with a variety of other techniques to make handmade cards which you can keep or send to friends and family.&nbsp\; All skill levels are welcome.&nbsp\; </span></span></span></p>\n
LOCATION:ArtWorks is located at 232B Chatuge Way in the Hiawassee Business Center
UID:e.256.33622
SEQUENCE:3
DTSTAMP:20260424T015950Z
URL:https://members.visitblairsvillega.com/events/details/greeting-card-class-01-24-2015-33622
END:VEVENT

END:VCALENDAR
