BEGIN:VCALENDAR
VERSION:2.0
PRODID:-//ChamberMaster//Event Calendar 2.0//EN
METHOD:PUBLISH
X-PUBLISHED-TTL:P3D
REFRESH-INTERVAL:P3D
CALSCALE:GREGORIAN
BEGIN:VEVENT
DTSTART:20140329T233000Z
DTEND:20140330T013000Z
X-MICROSOFT-CDO-ALLDAYEVENT:FALSE
SUMMARY:Gretchen Peters Concert
DESCRIPTION:Grammy nominated singer-songwriter from Nashville\, Gretchen Peters in concert at the Blue Ridge Community Theater Saturday\, March 29. Her music is inspired by Paul Simon\, Bob Dylan\, Joni Mitchell and a new generation of songwriters rising out of Nashville that included Steve Earle\, Nanci Griffith and Rodney Crowell. Peter?s songs have been recorded by internationally recognized recording artists Pam Tillis\, Trisha Yearwood\, Patty Loveless\, Neil Diamond\, George Strait\, and Etta James. Live Music Is Better concert series is sponsored by the Blue Ridge Community Theater\, Inc. a 501- (c) 3 volunteer based non-profit corporation committed to bringing excellent performing arts entertainment to  North Georgia . For more information about Main Stage productions\, Sunny D Children?s Theater or the music concert series go to www.BlueRidgeCommunityTheater.com.  The theater is located at 2591 East First Street.    Ticket price for each performance is $20.00. Call the box office to inquire about our new group ticket prices and new Student Concert Ticket Price (student ID required) at 706 632 -9223 or purchase tickets online at www.BlueRidgeCommunityTheater.com. All performances begin at 7:30 PM.          Grammy nominated singer-songwriter from Nashville\, Gretchen Peters in concert at the Blue Ridge Community Theater Saturday\, March 29. Her music is inspired by Paul Simon\, Bob Dylan\, Joni Mitchell and a new generation of songwriters rising out of Nashville that included Steve Earle\, Nanci Griffith and Rodney Crowell. Peter?s songs have been recorded by internationally recognized recording artists Pam Tillis\, Trisha Yearwood\, Patty Loveless\, Neil Diamond\, George Strait\, and Etta James. Live Music Is Better concert series is sponsored by the Blue Ridge Community Theater\, Inc. a 501- (c) 3 volunteer based non-profit corporation committed to bringing excellent performing arts entertainment to  North Georgia . For more information about Main Stage productions\, Sunny D Children?s Theater or the music concert series go to www.BlueRidgeCommunityTheater.com.  The theater is located at 2591 East First Street.    Ticket price for each performance is $20.00. Call the box office to inquire about our new group ticket prices and new Student Concert Ticket Price (student ID required) at 706 632 -9223 or purchase tickets online at www.BlueRidgeCommunityTheater.com. All performances begin at 7:30 PM.            Grammy nominated singer-songwriter from Nashville\, Gretchen Peters in concert at the Blue Ridge Community Theater Saturday\, March 29. Her music is inspired by Paul Simon\, Bob Dylan\, Joni Mitchell and a new generation of songwriters rising out of Nashville that included Steve Earle\, Nanci Griffith and Rodney Crowell. Peter?s songs have been recorded by internationally recognized recording artists Pam Tillis\, Trisha Yearwood\, Patty Loveless\, Neil Diamond\, George Strait\, and Etta James. Live Music Is Better concert series is sponsored by the Blue Ridge Community Theater\, Inc. a 501- (c) 3 volunteer based non-profit corporation committed to bringing excellent performing arts entertainment to  North Georgia . For more information about Main Stage productions\, Sunny D Children?s Theater or the music concert series go to www.BlueRidgeCommunityTheater.com.  The theater is located at 2591 East First Street.    Ticket price for each performance is $20.00. Call the box office to inquire about our new group ticket prices and new Student Concert Ticket Price (student ID required) at 706 632 -9223 or purchase tickets online at www.BlueRidgeCommunityTheater.com. All performances begin at 7:30 PM.      Grammy nominated singer/songwriter from Nashville\, Gretchen Peters returns to the  Blue Ridge Community Theater stage for a Live Music Is Better concert. Her music is influenced by Bob Dylan\, Joni Mitchell\, Steve Earle and Rodney Crowell.
X-ALT-DESC;FMTTYPE=text/html:Grammy nominated singer-songwriter from Nashville\, Gretchen Peters in concert at the Blue Ridge Community Theater Saturday\, March 29. Her music is inspired by Paul Simon\, Bob Dylan\, Joni Mitchell and a new generation of songwriters rising out of Nashville that included Steve Earle\, Nanci Griffith and Rodney Crowell. Peter?s songs have been recorded by internationally recognized recording artists Pam Tillis\, Trisha Yearwood\, Patty Loveless\, Neil Diamond\, George Strait\, and Etta James. Live Music Is Better concert series is sponsored by the Blue Ridge Community Theater\, Inc. a 501- (c) 3 volunteer based non-profit corporation committed to bringing excellent performing arts entertainment to &nbsp\;North Georgia . For more information about Main Stage productions\, Sunny D Children?s Theater or the music concert series go to www.BlueRidgeCommunityTheater.com. &nbsp\;The theater is located at 2591 East First Street.&nbsp\; &nbsp\; Ticket price for each performance is $20.00. Call the box office to inquire about our new group ticket prices and new Student Concert Ticket Price (student ID required) at 706 632 -9223 or purchase tickets online at www.BlueRidgeCommunityTheater.com. All performances begin at 7:30 PM.&nbsp\; &nbsp\; &nbsp\; &nbsp\; &nbsp\; Grammy nominated singer-songwriter from Nashville\, Gretchen Peters in concert at the Blue Ridge Community Theater Saturday\, March 29. Her music is inspired by Paul Simon\, Bob Dylan\, Joni Mitchell and a new generation of songwriters rising out of Nashville that included Steve Earle\, Nanci Griffith and Rodney Crowell. Peter?s songs have been recorded by internationally recognized recording artists Pam Tillis\, Trisha Yearwood\, Patty Loveless\, Neil Diamond\, George Strait\, and Etta James. Live Music Is Better concert series is sponsored by the Blue Ridge Community Theater\, Inc. a 501- (c) 3 volunteer based non-profit corporation committed to bringing excellent performing arts entertainment to &nbsp\;North Georgia . For more information about Main Stage productions\, Sunny D Children?s Theater or the music concert series go to www.BlueRidgeCommunityTheater.com. &nbsp\;The theater is located at 2591 East First Street.&nbsp\; &nbsp\; Ticket price for each performance is $20.00. Call the box office to inquire about our new group ticket prices and new Student Concert Ticket Price (student ID required) at 706 632 -9223 or purchase tickets online at www.BlueRidgeCommunityTheater.com. All performances begin at 7:30 PM.&nbsp\; &nbsp\; &nbsp\; &nbsp\; &nbsp\; &nbsp\; Grammy nominated singer-songwriter from Nashville\, Gretchen Peters in concert at the Blue Ridge Community Theater Saturday\, March 29. Her music is inspired by Paul Simon\, Bob Dylan\, Joni Mitchell and a new generation of songwriters rising out of Nashville that included Steve Earle\, Nanci Griffith and Rodney Crowell. Peter?s songs have been recorded by internationally recognized recording artists Pam Tillis\, Trisha Yearwood\, Patty Loveless\, Neil Diamond\, George Strait\, and Etta James. Live Music Is Better concert series is sponsored by the Blue Ridge Community Theater\, Inc. a 501- (c) 3 volunteer based non-profit corporation committed to bringing excellent performing arts entertainment to &nbsp\;North Georgia . For more information about Main Stage productions\, Sunny D Children?s Theater or the music concert series go to www.BlueRidgeCommunityTheater.com. &nbsp\;The theater is located at 2591 East First Street.&nbsp\; &nbsp\; Ticket price for each performance is $20.00. Call the box office to inquire about our new group ticket prices and new Student Concert Ticket Price (student ID required) at 706 632 -9223 or purchase tickets online at www.BlueRidgeCommunityTheater.com. All performances begin at 7:30 PM.&nbsp\; &nbsp\; &nbsp\; Grammy nominated singer/songwriter from Nashville\, Gretchen Peters returns to the &nbsp\;Blue Ridge Community Theater&nbsp\;stage for a Live Music Is Better concert. Her music is influenced by Bob Dylan\, Joni Mitchell\, Steve Earle and Rodney Crowell. &nbsp\; &nbsp\; &nbsp\;
LOCATION:Blue Ridge Community Theater 2591 East First Street Blue Ridge\, GA
UID:e.256.23438
SEQUENCE:3
DTSTAMP:20260424T164617Z
URL:https://members.visitblairsvillega.com/events/details/gretchen-peters-concert-03-29-2014-23438
END:VEVENT

END:VCALENDAR
