BEGIN:VCALENDAR
VERSION:2.0
PRODID:-//ChamberMaster//Event Calendar 2.0//EN
METHOD:PUBLISH
X-PUBLISHED-TTL:P3D
REFRESH-INTERVAL:P3D
CALSCALE:GREGORIAN
BEGIN:VEVENT
DTSTART:20161203T170000Z
DTEND:20161203T190000Z
X-MICROSOFT-CDO-ALLDAYEVENT:FALSE
SUMMARY:Grief To Grace Luncheon
DESCRIPTION:This luncheon will explore the challenges faced by grief and the grace of God present during those times of suffering. Grief can come from loss of a loved one\, loss of marriage through unwanted divorce\, loss of health and independence\, loss of a job\, loss of fertility\, loss of dreams for a special needs child. Come for a time of healing from grief. Featured speaker is Brad Goeltz\, psychologist with the VA in Blairsville.
X-ALT-DESC;FMTTYPE=text/html:This luncheon will explore the challenges faced by grief and the grace of God present during those times of suffering. Grief can come from loss of a loved one\, loss of marriage through unwanted divorce\, loss of health and independence\, loss of a job\, loss of fertility\, loss of dreams for a special needs child. Come for a time of healing from grief. Featured speaker is Brad Goeltz\, psychologist with the VA in Blairsville.
LOCATION:St. Francis of Assisi Catholic Church 3717 Hwy 515 East Blairsville\, GA
UID:e.256.59710
SEQUENCE:3
DTSTAMP:20260420T111830Z
URL:https://members.visitblairsvillega.com/events/details/grief-to-grace-luncheon-59710
END:VEVENT

END:VCALENDAR
