BEGIN:VCALENDAR
VERSION:2.0
PRODID:-//ChamberMaster//Event Calendar 2.0//EN
METHOD:PUBLISH
X-PUBLISHED-TTL:P3D
REFRESH-INTERVAL:P3D
CALSCALE:GREGORIAN
BEGIN:VEVENT
DTSTART:20150423T230000Z
DTEND:20150424T004500Z
X-MICROSOFT-CDO-ALLDAYEVENT:FALSE
SUMMARY:Growing the Great Pumpkin
DESCRIPTION:Remember when Linus sat in the pumpkin patch\, waiting for the Great Pumpkin to appear? Why not grow your own great big pumpkin? Our speaker this month is Dr. Tim Coolong\, University of Georgia\, Associate Professor of Vegetable Production. Dr. Coolong will give instruction on recommended varieties\, planting and culture of pumpkins. So\, whether you are into competitive vegetable growing or just want normal pie-type pumpkins\, come to this seminar for advice on the care and feeding of pumpkins.
X-ALT-DESC;FMTTYPE=text/html:Remember when Linus sat in the pumpkin patch\, waiting for the Great Pumpkin to appear? Why not grow your own great big pumpkin? Our speaker this month is Dr. Tim Coolong\, University of Georgia\, Associate Professor of Vegetable Production. Dr. Coolong will give instruction on recommended varieties\, planting and culture of pumpkins. So\, whether you are into competitive vegetable growing or just want normal pie-type pumpkins\, come to this seminar for advice on the care and feeding of pumpkins.
LOCATION:The Georgia Mountain Research & Education Center\, 3 miles south of the Blairsville Square\, on the east side of Hwy 19/129.
UID:e.256.36906
SEQUENCE:3
DTSTAMP:20260423T200118Z
URL:https://members.visitblairsvillega.com/events/details/growing-the-great-pumpkin-04-23-2015-36906
END:VEVENT

END:VCALENDAR
