BEGIN:VCALENDAR
VERSION:2.0
PRODID:-//ChamberMaster//Event Calendar 2.0//EN
METHOD:PUBLISH
X-PUBLISHED-TTL:P3D
REFRESH-INTERVAL:P3D
CALSCALE:GREGORIAN
BEGIN:VEVENT
DTSTART:20160822T130000Z
DTEND:20160822T163000Z
X-MICROSOFT-CDO-ALLDAYEVENT:FALSE
SUMMARY:Guided Garden Tours
DESCRIPTION:The Ethnobotanic Gardens and Woodland Medicine Trail on the grounds of the University of Georgia's Mountain Research & Education Center\, showcase plants harvested and often cultivated by early inhabitants of the region. The Native Americans and early settlers used these plants for a variety of medicines\, food and crafts. Although many of these plants are considered weeds\, they are valuable to wildlife and pollinators and have an important place in the ecosystem. In addition\, visitors can see how native plants can be used attractively in their own landscape. The Georgia Mountain Research & Education Center has served the agricultural needs of the mountain region since 1928\, and that history is preserved in the historic Cannery Interpretive Center.
X-ALT-DESC;FMTTYPE=text/html:The Ethnobotanic Gardens and Woodland Medicine Trail on the grounds of the University of Georgia's Mountain Research &amp\; Education Center\, showcase plants harvested and often cultivated by early inhabitants of the region. The Native Americans and early settlers used these plants for a variety of medicines\, food and crafts. Although many of these plants are considered weeds\, they are valuable to wildlife and pollinators and have an important place in the ecosystem. In addition\, visitors can see how native plants can be used attractively in their own landscape. The Georgia Mountain Research &amp\; Education Center has served the agricultural needs of the mountain region since 1928\, and that history is preserved in the historic Cannery Interpretive Center.
LOCATION:The Georgia Mountain Research & Education Center\, 3 miles south of the Blairsville Square\, on the east side of Hwy 19/129.
UID:e.256.50990
SEQUENCE:3
DTSTAMP:20260420T162359Z
URL:https://members.visitblairsvillega.com/events/details/guided-garden-tours-08-22-2016-50990
END:VEVENT

END:VCALENDAR
