BEGIN:VCALENDAR
VERSION:2.0
PRODID:-//ChamberMaster//Event Calendar 2.0//EN
METHOD:PUBLISH
X-PUBLISHED-TTL:P3D
REFRESH-INTERVAL:P3D
CALSCALE:GREGORIAN
BEGIN:VEVENT
DTSTART:20160714T230000Z
DTEND:20160715T010000Z
X-MICROSOFT-CDO-ALLDAYEVENT:FALSE
SUMMARY:Guy Penrod Live
DESCRIPTION:Guy Penrod Live Pray About Everything Tour General Admission Tickets available at First Baptist Church of Blairsville Offices or online at www.guypenrod.com Artist's Circle Tickets available at www.guypenrod.com only
X-ALT-DESC;FMTTYPE=text/html:Guy Penrod Live Pray About Everything Tour General Admission Tickets available at First Baptist Church of Blairsville Offices or online at www.guypenrod.com Artist&#39\;s Circle Tickets available at www.guypenrod.com only
LOCATION:Union County Fine Schools Fine Arts Center\, Blairsville GA
UID:e.256.50928
SEQUENCE:3
DTSTAMP:20260420T183608Z
URL:https://members.visitblairsvillega.com/events/details/guy-penrod-live-07-14-2016-50928
END:VEVENT

END:VCALENDAR
