BEGIN:VCALENDAR
VERSION:2.0
PRODID:-//ChamberMaster//Event Calendar 2.0//EN
METHOD:PUBLISH
X-PUBLISHED-TTL:P3D
REFRESH-INTERVAL:P3D
CALSCALE:GREGORIAN
BEGIN:VEVENT
DTSTART:20150611T230000Z
DTEND:20150612T010000Z
X-MICROSOFT-CDO-ALLDAYEVENT:FALSE
SUMMARY:Guy & Sherrie George at John C. Campbell Folk School
DESCRIPTION:Guy & Sherrie George - uke & steel drum to hammered dulcimer & penny whistle
X-ALT-DESC;FMTTYPE=text/html:<div>Guy &amp\; Sherrie George - uke &amp\; steel drum to hammered dulcimer &amp\; penny whistle</div>\n
LOCATION:Community Room at John C. Campbell Folk School Brasstown\, NC 28902
UID:e.256.40220
SEQUENCE:3
DTSTAMP:20260423T182529Z
URL:https://members.visitblairsvillega.com/events/details/guy-sherrie-george-at-john-c-campbell-folk-school-06-11-2015-40220
END:VEVENT

END:VCALENDAR
