BEGIN:VCALENDAR
VERSION:2.0
PRODID:-//ChamberMaster//Event Calendar 2.0//EN
METHOD:PUBLISH
X-PUBLISHED-TTL:P3D
REFRESH-INTERVAL:P3D
CALSCALE:GREGORIAN
BEGIN:VEVENT
DTSTART:20150108T140000Z
DTEND:20150108T220000Z
X-MICROSOFT-CDO-ALLDAYEVENT:FALSE
SUMMARY:H & R Block Q&A Open House
DESCRIPTION:Is your refund impacted by the Affordable Care Act? Find out!\n\nCome into H&R Block and ask your questions.\n\nOur ACA Specialists will get you the answers you need for FREE!\n\nNo appointment\, no charge & no reason to wait.
X-ALT-DESC;FMTTYPE=text/html:<p>Is your refund impacted by the Affordable Care Act? Find out!<br />\nCome into H&amp\;R Block and ask your questions.<br />\nOur ACA Specialists will get you the answers you need for FREE!</p>\n\n<p>No appointment\, no charge &amp\; no reason to wait.</p>\n
LOCATION:281F Young Harris St Blairsville\, GA 30512 (next to Post Office) 706-745-4855 and H & R Block 1620 Hwy 76 Ste 11 Hiawassee\, GA Chatuge Plaza 706-896-9565
UID:e.256.28925
SEQUENCE:3
DTSTAMP:20260424T003329Z
URL:https://members.visitblairsvillega.com/events/details/h-r-block-q-a-open-house-01-08-2015-28925
END:VEVENT

END:VCALENDAR
