BEGIN:VCALENDAR
VERSION:2.0
PRODID:-//ChamberMaster//Event Calendar 2.0//EN
METHOD:PUBLISH
X-PUBLISHED-TTL:P3D
REFRESH-INTERVAL:P3D
CALSCALE:GREGORIAN
BEGIN:VEVENT
DTSTART:20160412T150000Z
DTEND:20160412T183000Z
X-MICROSOFT-CDO-ALLDAYEVENT:FALSE
SUMMARY:Habitat Diner's Club
DESCRIPTION:Support Habitat's mission of building affordable housing in Towns & Union County by just having dinner and the restaurant will donate a portion of the proceeds to Habitat. Good food\, good times\, good deeds!
X-ALT-DESC;FMTTYPE=text/html:Support Habitat&#39\;s mission of building affordable housing in Towns &amp\; Union County by just having dinner and the restaurant will donate a portion of the proceeds to Habitat. Good food\, good times\, good deeds!
LOCATION:American Catch 94F Town Square Blairsville\, GA
UID:e.256.50770
SEQUENCE:3
DTSTAMP:20260421T022144Z
URL:https://members.visitblairsvillega.com/events/details/habitat-diner-s-club-04-12-2016-50770
END:VEVENT

END:VCALENDAR
