BEGIN:VCALENDAR
VERSION:2.0
PRODID:-//ChamberMaster//Event Calendar 2.0//EN
METHOD:PUBLISH
X-PUBLISHED-TTL:P3D
REFRESH-INTERVAL:P3D
CALSCALE:GREGORIAN
BEGIN:VEVENT
DTSTART:20150414T150000Z
DTEND:20150415T000000Z
X-MICROSOFT-CDO-ALLDAYEVENT:FALSE
SUMMARY:Habitat Diner's Club
DESCRIPTION:Join us for lunch (11am - 2:30) or dinner (4pm - 8pm) on Tuesday\, April 14th for the Habitat Diner's Club. Come and enjoy a delicious meal and this generous restaurant will make a donation to our Towns & Union affiliate of Habitat for Humanity.  Help raise funds to build another home for a local family that qualifies for a zero-interest mortgage through Habitat.
X-ALT-DESC;FMTTYPE=text/html:Join us for lunch (11am - 2:30) or dinner (4pm - 8pm) on Tuesday\, April 14th for the Habitat Diner&#39\;s Club. Come and enjoy a delicious meal and this generous restaurant will make a donation to our Towns &amp\; Union affiliate of Habitat for Humanity. &nbsp\;Help raise funds to build another home for a local family that qualifies for a zero-interest mortgage through Habitat.
LOCATION:American Catch Seafood Exchange on the Square in Blairsville across from Season's Inn
UID:e.256.37913
SEQUENCE:3
DTSTAMP:20260423T212131Z
URL:https://members.visitblairsvillega.com/events/details/habitat-diner-s-club-04-14-2015-37913
END:VEVENT

END:VCALENDAR
