BEGIN:VCALENDAR
VERSION:2.0
PRODID:-//ChamberMaster//Event Calendar 2.0//EN
METHOD:PUBLISH
X-PUBLISHED-TTL:P3D
REFRESH-INTERVAL:P3D
CALSCALE:GREGORIAN
BEGIN:VEVENT
DTSTART:20160510T210000Z
DTEND:20160511T000000Z
X-MICROSOFT-CDO-ALLDAYEVENT:FALSE
SUMMARY:Habitat Diner's Club
DESCRIPTION:Support Habitat's mission of building affordable housing in Towns & Union County by just having dinner and the restaurant will donate a portion of the proceeds to Habitat. Good food\, good times\, good deeds!
X-ALT-DESC;FMTTYPE=text/html:Support Habitat&#39\;s mission of building affordable housing in Towns &amp\; Union County by just having dinner and the restaurant will donate a portion of the proceeds to Habitat. Good food\, good times\, good deeds!
LOCATION:Chophouse of Hiawassee 625 Hwy. 76 W. Hiawassee\, GA
UID:e.256.51057
SEQUENCE:3
DTSTAMP:20260421T002733Z
URL:https://members.visitblairsvillega.com/events/details/habitat-diner-s-club-05-10-2016-51057
END:VEVENT

END:VCALENDAR
