BEGIN:VCALENDAR
VERSION:2.0
PRODID:-//ChamberMaster//Event Calendar 2.0//EN
METHOD:PUBLISH
X-PUBLISHED-TTL:P3D
REFRESH-INTERVAL:P3D
CALSCALE:GREGORIAN
BEGIN:VEVENT
DTSTART:20160614T203000Z
DTEND:20160614T233000Z
X-MICROSOFT-CDO-ALLDAYEVENT:FALSE
SUMMARY:Habitat Diner's Club
DESCRIPTION:Support Habitat's mission of building affordable housing in Towns & Union County by just having dinner and the restaurant will donate a portion of the proceeds to Habitat. Good food\, good times\, good deeds!
X-ALT-DESC;FMTTYPE=text/html:Support Habitat&#39\;s mission of building affordable housing in Towns &amp\; Union County by just having dinner and the restaurant will donate a portion of the proceeds to Habitat. Good food\, good times\, good deeds!
LOCATION:Brother's at Willows Ranch 6223 Hwy. 76 W. Young Harris\, GA
UID:e.256.52766
SEQUENCE:3
DTSTAMP:20260420T204005Z
URL:https://members.visitblairsvillega.com/events/details/habitat-diner-s-club-06-14-2016-52766
END:VEVENT

END:VCALENDAR
