BEGIN:VCALENDAR
VERSION:2.0
PRODID:-//ChamberMaster//Event Calendar 2.0//EN
METHOD:PUBLISH
X-PUBLISHED-TTL:P3D
REFRESH-INTERVAL:P3D
CALSCALE:GREGORIAN
BEGIN:VEVENT
DTSTART:20140813T210000Z
DTEND:20140814T010000Z
X-MICROSOFT-CDO-ALLDAYEVENT:FALSE
SUMMARY:Habitat Diner's Club
DESCRIPTION:Support Habitat's mission of building affordable housing in Towns & Union County by just having dinner and the restaurant will donate a portion of the proceeds to Habitat. Good food\, good times\, good deeds!
X-ALT-DESC;FMTTYPE=text/html:Support Habitat&#39\;s mission of building affordable housing in Towns &amp\; Union County by just having dinner and the restaurant will donate a portion of the proceeds to Habitat. Good food\, good times\, good deeds!
LOCATION:Bear Meadows Grill 715 N. Main St. Hiawassee\, GA 30546
UID:e.256.25350
SEQUENCE:3
DTSTAMP:20260424T092104Z
URL:https://members.visitblairsvillega.com/events/details/habitat-diner-s-club-08-13-2014-25350
END:VEVENT

END:VCALENDAR
