BEGIN:VCALENDAR
VERSION:2.0
PRODID:-//ChamberMaster//Event Calendar 2.0//EN
METHOD:PUBLISH
X-PUBLISHED-TTL:P3D
REFRESH-INTERVAL:P3D
CALSCALE:GREGORIAN
BEGIN:VEVENT
DTSTART:20140909T210000Z
DTEND:20140910T010000Z
X-MICROSOFT-CDO-ALLDAYEVENT:FALSE
SUMMARY:Habitat Diner's Club
DESCRIPTION:Invite your friends\, eat a great meal\, make new friends\, and do a good deed while you are dining! How? Come out to Asiano for Habitat for Humanity's Diners Club September  Dine-Out on Tuesday\, September 9th from 5PM to 9PM. Asiano will donate a portion of your tab to Habitat!\n\nHabitat for Humanity's Volunteers and Partner Families extend a big Thank You to all faithful new and existing Club members.
X-ALT-DESC;FMTTYPE=text/html:Invite your friends\, eat a great meal\, make new friends\, and do a good deed while you are dining! How? Come out to Asiano for Habitat for Humanity&#39\;s Diners Club September&nbsp\; Dine-Out on Tuesday\, September 9th from 5PM to 9PM. Asiano will donate a portion of your tab to Habitat!<br />\nHabitat for Humanity&#39\;s Volunteers and Partner Families extend a big Thank You to all faithful new and existing Club members.<br />\n&nbsp\;
LOCATION:Asiano 1382 Hwy 76 W. Hiawassee\, GA
UID:e.256.27325
SEQUENCE:3
DTSTAMP:20260424T063056Z
URL:https://members.visitblairsvillega.com/events/details/habitat-diner-s-club-09-09-2014-27325
END:VEVENT

END:VCALENDAR
