BEGIN:VCALENDAR
VERSION:2.0
PRODID:-//ChamberMaster//Event Calendar 2.0//EN
METHOD:PUBLISH
X-PUBLISHED-TTL:P3D
REFRESH-INTERVAL:P3D
CALSCALE:GREGORIAN
BEGIN:VEVENT
DTSTART:20150909T203000Z
DTEND:20150910T010000Z
X-MICROSOFT-CDO-ALLDAYEVENT:FALSE
SUMMARY:Habitat Diner's Club
DESCRIPTION:Support Habitat's mission of building affordable housing in Towns & Union County by just having dinner and the restaurant will donate a portion of the proceeds to Habitat. Good food\, good times\, good deeds!
X-ALT-DESC;FMTTYPE=text/html:Support Habitat&#39\;s mission of building affordable housing in Towns &amp\; Union County by just having dinner and the restaurant will donate a portion of the proceeds to Habitat. Good food\, good times\, good deeds!
LOCATION:Enrico's Italian Restaurant 687 Main St. Ste 5 Young Harris GA 30528
UID:e.256.43930
SEQUENCE:3
DTSTAMP:20260423T134149Z
URL:https://members.visitblairsvillega.com/events/details/habitat-diner-s-club-09-09-2015-43930
END:VEVENT

END:VCALENDAR
