BEGIN:VCALENDAR
VERSION:2.0
PRODID:-//ChamberMaster//Event Calendar 2.0//EN
METHOD:PUBLISH
X-PUBLISHED-TTL:P3D
REFRESH-INTERVAL:P3D
CALSCALE:GREGORIAN
BEGIN:VEVENT
DTSTART:20140513T203000Z
DTEND:20140513T233000Z
X-MICROSOFT-CDO-ALLDAYEVENT:FALSE
SUMMARY:Habitat Diner's Club at The Chophouse of Hiawassee
DESCRIPTION:Come join us in our monthly dinner club and support Habitat's mission of building affordable housing in Towns and Union counties. All you need to do enjoy a delightful dinner out and this generous restaurant will donate a portion of their proceeds to Habitat.\n\n\n\nGood Food\, Good Times\, and Good Deeds\n\n\n\nBring your appetite and bring your friends - make it a monthly dinner date!\n\nBecome a member of the Habitat Diners Club!\n\n\n\nThank You!
X-ALT-DESC;FMTTYPE=text/html:Come join us in our monthly dinner club and support Habitat&#39\;s mission of building affordable housing in Towns and Union counties. All you need to do enjoy a delightful dinner out and this generous restaurant will donate a portion of their proceeds&nbsp\;to Habitat.<br />\n<br />\nGood Food\, Good Times\, and Good Deeds<br />\n<br />\nBring your appetite and bring your friends - make it a monthly dinner date!<br />\nBecome a member of the Habitat Diners Club!<br />\n<br />\nThank You!<br />\n<br />\n&nbsp\;
LOCATION:The Chophouse of Hiawassee 625 Hwy 76 W Hiawassee\, GA
UID:e.256.24247
SEQUENCE:3
DTSTAMP:20260424T140247Z
URL:https://members.visitblairsvillega.com/events/details/habitat-diner-s-club-at-the-chophouse-of-hiawassee-05-13-2014-24247
END:VEVENT

END:VCALENDAR
