BEGIN:VCALENDAR
VERSION:2.0
PRODID:-//ChamberMaster//Event Calendar 2.0//EN
METHOD:PUBLISH
X-PUBLISHED-TTL:P3D
REFRESH-INTERVAL:P3D
CALSCALE:GREGORIAN
BEGIN:VEVENT
DTSTART:20140211T213000Z
DTEND:20140212T003000Z
X-MICROSOFT-CDO-ALLDAYEVENT:FALSE
SUMMARY:Habitat Diners Club @ Brothers at Willow Ranch
DESCRIPTION:Come join us for dinner and support Habitat's mission of building affordable housing in Towns and Union Counties. All you need to do is enjoy a delightful dinner out and this generous restaurant will donate a portion of their proceeds to Habitat. \n\n"Good Food\, Good Times and Good Deeds" \n\nBring your appetite and bring your friends   make it a regular dinner date!
X-ALT-DESC;FMTTYPE=text/html:<span style="font-size: 12px\;"><span style="font-family: arial\;"><span new="" style="line-height: 115%\; mso-fareast-language: en-us\; mso-fareast-font-family: calibri\; mso-ansi-language: en-us\; mso-bidi-language: ar-sa\; mso-fareast-theme-font: minor-latin\; mso-ascii-theme-font: minor-latin\; mso-hansi-theme-font: minor-latin\;" times=""><font color="#000000">Come join us for dinner and support Habitat&rsquo\;s mission of building affordable housing in Towns and Union Counties. All you need to do is enjoy a delightful dinner out and this generous restaurant will donate a portion of their proceeds to Habitat. </font></span></span></span>\n\n<p><span new="" style="line-height: 115%\; font-family:\;" times=""><font color="#000000"><span style="font-size: 12px\;"><span style="font-family: arial\;"><i>&quot\;Good Food\, Good Times and Good Deeds&quot\; </i></span></span></font></span></p>\n\n<p><span new="" style="line-height: 115%\; font-family:\;" times=""><font color="#000000"><span style="font-size: 12px\;"><span style="font-family: arial\;">Bring your appetite and bring your friends &ndash\; make it a regular dinner date! </span></span></font></span></p>\n
LOCATION:Brothers at Willow Ranch\, Young Harris
UID:e.256.22941
SEQUENCE:3
DTSTAMP:20260424T165210Z
URL:https://members.visitblairsvillega.com/events/details/habitat-diners-club-brothers-at-willow-ranch-02-11-2014-22941
END:VEVENT

END:VCALENDAR
