BEGIN:VCALENDAR
VERSION:2.0
PRODID:-//ChamberMaster//Event Calendar 2.0//EN
METHOD:PUBLISH
X-PUBLISHED-TTL:P3D
REFRESH-INTERVAL:P3D
CALSCALE:GREGORIAN
BEGIN:VEVENT
DTSTART:20140311T203000Z
DTEND:20140311T233000Z
X-MICROSOFT-CDO-ALLDAYEVENT:FALSE
SUMMARY:Habitat Dinner Club at Enrico's
DESCRIPTION:Come join us for dinner and support Habitat's mission of building affordable housing in Towns and Union Counties. All you need to do is enjoy a delightful dinner out and this generous restaurant will donate a portion of their proceeds to Habitat. "Good Food\, Good Times and Good Deeds" \n\nBring your appetite and bring your friends   make it a regular dinner date!
X-ALT-DESC;FMTTYPE=text/html:<span style="font-size: 12px\;"><span style="font-family: arial\;"><span new="" times="">Come join us for dinner and support Habitat&rsquo\;s mission of building affordable housing in Towns and Union Counties. All you need to do is enjoy a delightful dinner out and this generous restaurant will donate a portion of their proceeds to Habitat. </span></span></span><span new="" times=""><span style="font-family:\;"><span style="font-size: 12px\;"><span style="font-family: arial\;"><em>&quot\;Good Food\, Good Times and Good Deeds&quot\; </em></span></span></span></span><br />\n<span new="" times=""><span style="font-family:\;"><span style="font-size: 12px\;"><span style="font-family: arial\;">Bring your appetite and bring your friends &ndash\; make it a regular dinner date! </span></span></span></span><br />\n&nbsp\;
LOCATION:Enrico's in Young Harris\, GA
UID:e.256.23044
SEQUENCE:3
DTSTAMP:20260424T152340Z
URL:https://members.visitblairsvillega.com/events/details/habitat-dinner-club-at-enrico-s-03-11-2014-23044
END:VEVENT

END:VCALENDAR
