BEGIN:VCALENDAR
VERSION:2.0
PRODID:-//ChamberMaster//Event Calendar 2.0//EN
METHOD:PUBLISH
X-PUBLISHED-TTL:P3D
REFRESH-INTERVAL:P3D
CALSCALE:GREGORIAN
BEGIN:VEVENT
DTSTART:20170613T210000Z
DTEND:20170614T000000Z
X-MICROSOFT-CDO-ALLDAYEVENT:FALSE
SUMMARY:Habitat for Humanity Diner's Club for June---Armadillo Grill!
DESCRIPTION:Please join us at the Armadillo Grill on June 13 from 5:00-8:00 p.m. for the Habitat Diner's Club.\n\nA portion of your purchase will be donated to Towns-Union Habitat for Humanity\, to help us build affordable housing for local residents.  Share with your friends\, the more the merrier!
X-ALT-DESC;FMTTYPE=text/html:Please join us at the Armadillo Grill on June 13 from 5:00-8:00 p.m. for the Habitat Diner&#39\;s Club.<br />\nA portion of your purchase will be donated to Towns-Union Habitat for Humanity\, to help us build affordable housing for local residents.&nbsp\; Share with your friends\, the more the merrier!<br />\n&nbsp\;
LOCATION:Armadillo Grill 24 Scott Drive Blairsville\, GA 30512
UID:e.256.74163
SEQUENCE:3
DTSTAMP:20260419T233611Z
URL:https://members.visitblairsvillega.com/events/details/habitat-for-humanity-diner-s-club-for-june-armadillo-grill-74163
END:VEVENT

END:VCALENDAR
