BEGIN:VCALENDAR
VERSION:2.0
PRODID:-//ChamberMaster//Event Calendar 2.0//EN
METHOD:PUBLISH
X-PUBLISHED-TTL:P3D
REFRESH-INTERVAL:P3D
CALSCALE:GREGORIAN
BEGIN:VEVENT
DTSTART:20170220T220000Z
DTEND:20170221T010000Z
X-MICROSOFT-CDO-ALLDAYEVENT:FALSE
SUMMARY:Habitat for Humanity Diner's Club for March---Chik-Fil-A
DESCRIPTION:Come on out to Chik-fil-A from 5-8 p.m. for Spirit Night!  Just tell your cashier that you are there to support Towns-Union Habitat for Humanity\, and a portion of your purchase will go directly to Habitat!  All are welcome.
X-ALT-DESC;FMTTYPE=text/html:Come on out to Chik-fil-A from 5-8 p.m. for Spirit Night!&nbsp\; Just tell your cashier that you are there to support Towns-Union Habitat for Humanity\, and a portion of your purchase will go directly to Habitat!&nbsp\; All are welcome.
LOCATION:Chik-Fil-A\, 152 Hwy. 515 E. Blairsville\, GA 30512
UID:e.256.67583
SEQUENCE:3
DTSTAMP:20260420T061603Z
URL:https://members.visitblairsvillega.com/events/details/habitat-for-humanity-diner-s-club-for-march-chik-fil-a-67583
END:VEVENT

END:VCALENDAR
