BEGIN:VCALENDAR
VERSION:2.0
PRODID:-//ChamberMaster//Event Calendar 2.0//EN
METHOD:PUBLISH
X-PUBLISHED-TTL:P3D
REFRESH-INTERVAL:P3D
CALSCALE:GREGORIAN
BEGIN:VEVENT
DTSTART:20171114T220000Z
DTEND:20171115T003000Z
X-MICROSOFT-CDO-ALLDAYEVENT:FALSE
SUMMARY:Habitat for Humanity Diner's Club for November---Chick-Fil-A!!!
DESCRIPTION:Come join us at Chick-Fil-A in Blairsville on Tuesday\, November 14\, from 5:00-7:30 for the Habitat for Humanity Diner's Club!  A portion of the proceeds from that evening will be donated by Chick-Fil-A\, to Habitat for Humanity Towns/Union Counties.  Bring your friends!
X-ALT-DESC;FMTTYPE=text/html:<strong><span style="font-size:12px"><span style="font-size:14px">Come join us at Chick-Fil-A in Blairsville on Tuesday\, November 14\, from 5:00-7:30 for the Habitat for Humanity Diner&#39\;s Club!&nbsp\; A portion of the proceeds from that evening will be donated by Chick-Fil-A\, to Habitat for Humanity Towns/Union Counties.&nbsp\; Bring your friends!</span></span></strong><br />\n&nbsp\;
LOCATION:Chick Fil A\, Blairsville
UID:e.256.76737
SEQUENCE:3
DTSTAMP:20260419T160532Z
URL:https://members.visitblairsvillega.com/events/details/habitat-for-humanity-diner-s-club-for-november-chick-fil-a-76737
END:VEVENT

END:VCALENDAR
