BEGIN:VCALENDAR
VERSION:2.0
PRODID:-//ChamberMaster//Event Calendar 2.0//EN
METHOD:PUBLISH
X-PUBLISHED-TTL:P3D
REFRESH-INTERVAL:P3D
CALSCALE:GREGORIAN
BEGIN:VEVENT
DTSTART:20171010T210000Z
DTEND:20171011T000000Z
X-MICROSOFT-CDO-ALLDAYEVENT:FALSE
SUMMARY:Habitat for Humanity Diner's Club for October---Mike's Seafood!
DESCRIPTION:Come join us at Mike's Seafood in Blairsville on Tuesday\, October 10\, 2017\, from 5-8 p.m. for the October Habitat for Humanity's Diners Club!  A portion of the proceeds on that day will be donated to Habitat\, to help further our mission of building houses for needy families.  "Beause everybody deserves a decent place to live".  Bring your friends and see you there!
X-ALT-DESC;FMTTYPE=text/html:Come join us at Mike&#39\;s Seafood in Blairsville on Tuesday\, October 10\, 2017\, from 5-8 p.m. for the October Habitat for Humanity&#39\;s Diners Club!&nbsp\; A portion of the proceeds on that day will be donated to Habitat\, to help further our mission of building houses for needy families.&nbsp\; &quot\;Beause everybody deserves a decent place to live&quot\;.&nbsp\; Bring your friends and see you there!
LOCATION:Mike's Seafood Market and Grill\, 513A Murphy Highway\, Blairsville\, GA
UID:e.256.76170
SEQUENCE:3
DTSTAMP:20260419T160448Z
URL:https://members.visitblairsvillega.com/events/details/habitat-for-humanity-diner-s-club-for-october-mike-s-seafood-76170
END:VEVENT

END:VCALENDAR
