BEGIN:VCALENDAR
VERSION:2.0
PRODID:-//ChamberMaster//Event Calendar 2.0//EN
METHOD:PUBLISH
X-PUBLISHED-TTL:P3D
REFRESH-INTERVAL:P3D
CALSCALE:GREGORIAN
BEGIN:VEVENT
DTSTART:20170919T210000Z
DTEND:20170920T000000Z
X-MICROSOFT-CDO-ALLDAYEVENT:FALSE
SUMMARY:Habitat for Humanity Diner's Club for September---Enrico's in Young Harris
DESCRIPTION:Come join us for dinner at Enrico's in Young Harris (687 Main Street) from 5-8 p.m. on Tuesday\, September 19.  The owners have graciously volunteered to donate a portion of the proceeds from that evening's dinner service to Habitat!  Bring your friends\, and make it a party!
X-ALT-DESC;FMTTYPE=text/html:Come join us for dinner at Enrico&#39\;s in Young Harris (687 Main Street) from 5-8 p.m. on Tuesday\, September 19.&nbsp\; The owners have graciously volunteered to donate a portion of the proceeds from that evening&#39\;s dinner service to Habitat!&nbsp\; Bring your friends\, and make it a party!
LOCATION:687 Main Street\, Young Harris\, GA
UID:e.256.76009
SEQUENCE:3
DTSTAMP:20260419T180249Z
URL:https://members.visitblairsvillega.com/events/details/habitat-for-humanity-diner-s-club-for-september-enrico-s-in-young-harris-76009
END:VEVENT

END:VCALENDAR
