BEGIN:VCALENDAR
VERSION:2.0
PRODID:-//ChamberMaster//Event Calendar 2.0//EN
METHOD:PUBLISH
X-PUBLISHED-TTL:P3D
REFRESH-INTERVAL:P3D
CALSCALE:GREGORIAN
BEGIN:VEVENT
DTSTART:20170511T210000Z
DTEND:20170512T000000Z
X-MICROSOFT-CDO-ALLDAYEVENT:FALSE
SUMMARY:Habitat For Humanity Diner's Cub for May--Copeland's!
DESCRIPTION:Come on out and join us at Copeland's for dinner\, and they will donate a portion of your purchase to Habitat for Humanity.
X-ALT-DESC;FMTTYPE=text/html:Come on out and join us at Copeland&#39\;s for dinner\, and they will donate a portion of your purchase to Habitat for Humanity.
LOCATION:Copeland's Restaurant\, Blairsville\, GA
UID:e.256.73118
SEQUENCE:3
DTSTAMP:20260420T010319Z
URL:https://members.visitblairsvillega.com/events/details/habitat-for-humanity-diner-s-cub-for-may-copeland-s-73118
END:VEVENT

END:VCALENDAR
