BEGIN:VCALENDAR
VERSION:2.0
PRODID:-//ChamberMaster//Event Calendar 2.0//EN
METHOD:PUBLISH
X-PUBLISHED-TTL:P3D
REFRESH-INTERVAL:P3D
CALSCALE:GREGORIAN
BEGIN:VEVENT
DTSTART:20171202T150000Z
DTEND:20171202T160000Z
X-MICROSOFT-CDO-ALLDAYEVENT:FALSE
SUMMARY:Habitat for Humanity House Dedication Celebration
DESCRIPTION:Join the Towns/Union Habitat for Humanity for their 17th House Dedication ceremony. The home is located at 170 Duckworth Lane\, Blairsville\, off of Fairview Church Lane. That's near the ACE Hardware on Old Blue Ridge Hwy.
X-ALT-DESC;FMTTYPE=text/html:Join the Towns/Union Habitat for Humanity for their&nbsp\;17th House Dedication ceremony. The home is located at&nbsp\;<span style="font-family:calibri\,sans-serif\;"><span style="font-size:11.0pt\;">170 Duckworth Lane\, Blairsville\, off of Fairview Church Lane. That&#39\;s near the ACE Hardware on Old Blue Ridge Hwy.</span></span>
LOCATION:170 Duckworth Lane Blairsville\, GA 30512
UID:e.256.76739
SEQUENCE:3
DTSTAMP:20260419T123341Z
URL:https://members.visitblairsvillega.com/events/details/habitat-for-humanity-house-dedication-celebration-76739
END:VEVENT

END:VCALENDAR
