BEGIN:VCALENDAR
VERSION:2.0
PRODID:-//ChamberMaster//Event Calendar 2.0//EN
METHOD:PUBLISH
X-PUBLISHED-TTL:P3D
REFRESH-INTERVAL:P3D
CALSCALE:GREGORIAN
BEGIN:VEVENT
DTSTART:20160321T130000Z
DTEND:20160321T190000Z
X-MICROSOFT-CDO-ALLDAYEVENT:FALSE
SUMMARY:Hair Show 2016
DESCRIPTION:Life of Riley will be demonstrating hair coloring at the Hair Show 2016! This class will also count as 5 CEU's for continuing education.
X-ALT-DESC;FMTTYPE=text/html:Life of Riley will be demonstrating hair coloring at the Hair Show 2016! This class will also count as 5 CEU&#39\;s for continuing education.
LOCATION:North Georgia Techinical College Clarksville Campus Clegg Auditorium
UID:e.256.49824
SEQUENCE:3
DTSTAMP:20260421T021825Z
URL:https://members.visitblairsvillega.com/events/details/hair-show-2016-03-21-2016-49824
END:VEVENT

END:VCALENDAR
