BEGIN:VCALENDAR
VERSION:2.0
PRODID:-//ChamberMaster//Event Calendar 2.0//EN
METHOD:PUBLISH
X-PUBLISHED-TTL:P3D
REFRESH-INTERVAL:P3D
CALSCALE:GREGORIAN
BEGIN:VEVENT
DTSTART:20150424T233000Z
DTEND:20150425T010000Z
X-MICROSOFT-CDO-ALLDAYEVENT:FALSE
SUMMARY:Hallelujah Girls
DESCRIPTION:Uproariously funny play\, a southern fried comedy by Jones\, Hope\, Wooten. Come and bring the family for a laughing good time. Friday and Saturday nights at 7:30p and Sunday afternoon at 2:30p
X-ALT-DESC;FMTTYPE=text/html:Uproariously funny play\, a southern fried comedy by Jones\, Hope\, Wooten. Come and bring the family for a laughing good time. Friday and Saturday nights at 7:30p and Sunday afternoon at 2:30p
LOCATION:34 Creekside Plaza\, Suite 18 Hayesville\, NC 28904
UID:e.256.38135
SEQUENCE:3
DTSTAMP:20260423T200536Z
URL:https://members.visitblairsvillega.com/events/details/hallelujah-girls-04-24-2015-38135
END:VEVENT

END:VCALENDAR
