BEGIN:VCALENDAR
VERSION:2.0
PRODID:-//ChamberMaster//Event Calendar 2.0//EN
METHOD:PUBLISH
X-PUBLISHED-TTL:P3D
REFRESH-INTERVAL:P3D
CALSCALE:GREGORIAN
BEGIN:VEVENT
DTSTART:20151030T230000Z
DTEND:20151031T035500Z
X-MICROSOFT-CDO-ALLDAYEVENT:FALSE
SUMMARY:Halloween Dance "Nightmare on School Street"
DESCRIPTION:"Sorry\, no one under 13 years old will be admitted!!!   '80's - '90's - '00's Dance Music with a professional DJ.  "Costume Contest"  Wear a costume or just come as you are!  SPONSORED BY: UCFD Fire Station #10.
X-ALT-DESC;FMTTYPE=text/html:&quot\;Sorry\, no one under 13 years old will be admitted!!!&nbsp\;&nbsp\; &#39\;80&#39\;s - &#39\;90&#39\;s - &#39\;00&#39\;s Dance Music with a professional DJ.&nbsp\; &quot\;Costume Contest&quot\;&nbsp\; Wear a costume or just come as you are!&nbsp\; SPONSORED BY: UCFD Fire Station #10.
LOCATION:North Georgia Technical College at 121 Meeks Avenue\, Blairsville\, GA
UID:e.256.44300
SEQUENCE:3
DTSTAMP:20260423T103229Z
URL:https://members.visitblairsvillega.com/events/details/halloween-dance-nightmare-on-school-street-10-30-2015-44300
END:VEVENT

END:VCALENDAR
