BEGIN:VCALENDAR
VERSION:2.0
PRODID:-//ChamberMaster//Event Calendar 2.0//EN
METHOD:PUBLISH
X-PUBLISHED-TTL:P3D
REFRESH-INTERVAL:P3D
CALSCALE:GREGORIAN
BEGIN:VEVENT
DTSTART:20151030T223000Z
DTEND:20151031T030000Z
X-MICROSOFT-CDO-ALLDAYEVENT:FALSE
SUMMARY:Halloween Eve with Elite Escapes
DESCRIPTION:We've gone batty for Halloween!\n\nHow else better than to start off Halloween Eve than at Doyle's Cedar Hill in Murphy\, NC?\n\n\n\nLeaving Blairsville 6:30pm\n\nFriday\, October 30th\n\nOnly $30 for going in our limo bus.\n\n\n\nWant even more? Modern Vinyl will be playing!\n\nSeating is limited to reserve today!
X-ALT-DESC;FMTTYPE=text/html:<p style="text-align: center\;"><span style="font-size:16px\;"><span style="font-family: comic sans ms\;"><span style="color: rgb(0\, 0\, 0)\;">We&#39\;ve gone batty for Halloween!</span></span></span></p>\n\n<p style="text-align: center\;"><span style="font-size:16px\;"><span style="font-family: comic sans ms\;"><span style="color: rgb(0\, 0\, 0)\;">How else better than to start off Halloween Eve than at Doyle&rsquo\;s Cedar Hill in Murphy\, NC?<br />\n<br />\nLeaving Blairsville 6:30pm<br />\nFriday\, October 30th<br />\nOnly $30 for going in our limo bus.<br />\n<br />\nWant even more? Modern Vinyl will be playing!</span></span></span></p>\n\n<p style="text-align: center\;"><span style="font-size:16px\;"><span style="font-family: comic sans ms\;">Seating is limited to reserve today!</span></span></p>\n
LOCATION:
UID:e.256.44343
SEQUENCE:3
DTSTAMP:20260423T103645Z
URL:https://members.visitblairsvillega.com/events/details/halloween-eve-with-elite-escapes-10-30-2015-44343
END:VEVENT

END:VCALENDAR
