BEGIN:VCALENDAR
VERSION:2.0
PRODID:-//ChamberMaster//Event Calendar 2.0//EN
METHOD:PUBLISH
X-PUBLISHED-TTL:P3D
REFRESH-INTERVAL:P3D
CALSCALE:GREGORIAN
BEGIN:VEVENT
DTSTART:20171031T220000Z
DTEND:20171101T000000Z
X-MICROSOFT-CDO-ALLDAYEVENT:FALSE
SUMMARY:Halloween On The Square
DESCRIPTION:Ghosts and Goblins will be lurking downtown on the square. Games\, costume contests and lots of trick or treating.\n\nBusinesses get your booths ready starting at 5:30pm.\n\n\n\nTreat or Treat event 6:00pm - 8:00pm
X-ALT-DESC;FMTTYPE=text/html:Ghosts and Goblins will be lurking downtown on the square. Games\, costume contests and lots of trick or treating.<br />\nBusinesses get your booths ready starting at 5:30pm.<br />\n<br />\nTreat or Treat event 6:00pm - 8:00pm<br />\n&nbsp\;
LOCATION:Downtown On The Square Blairsville\, GA
UID:e.256.21855
SEQUENCE:3
DTSTAMP:20260419T155726Z
URL:https://members.visitblairsvillega.com/events/details/halloween-on-the-square-10-31-2014-21855
END:VEVENT

END:VCALENDAR
