BEGIN:VCALENDAR
VERSION:2.0
PRODID:-//ChamberMaster//Event Calendar 2.0//EN
METHOD:PUBLISH
X-PUBLISHED-TTL:P3D
REFRESH-INTERVAL:P3D
CALSCALE:GREGORIAN
BEGIN:VEVENT
DTSTART:20171028T230000Z
DTEND:20171029T020000Z
X-MICROSOFT-CDO-ALLDAYEVENT:FALSE
SUMMARY:Halloween Party at Hightower Creek Vineyards
DESCRIPTION:We're having a Halloween party and you're invited! Cost includes food\, live music\, your first glass of wine\, and\, a costume contest for those who wish to dress up! We'll have a fire in the firepit and S'mores fixings\, too! Enjoy music by Rewind.
X-ALT-DESC;FMTTYPE=text/html:<span style="color:rgb(112\, 112\, 112)\; font-family:open sans\; font-size:14px">We&rsquo\;re having a Halloween party and you&rsquo\;re invited! Cost includes food\, live music\, your first glass of wine\, and\, a costume contest for those who wish to dress up! We&rsquo\;ll have a fire in the firepit and S&rsquo\;mores fixings\, too! Enjoy music by Rewind.</span>
LOCATION:7150 Canaan Drive Hiawassee\, GA 30546
UID:e.256.76500
SEQUENCE:3
DTSTAMP:20260419T175840Z
URL:https://members.visitblairsvillega.com/events/details/halloween-party-at-hightower-creek-vineyards-76500
END:VEVENT

END:VCALENDAR
