BEGIN:VCALENDAR
VERSION:2.0
PRODID:-//ChamberMaster//Event Calendar 2.0//EN
METHOD:PUBLISH
X-PUBLISHED-TTL:P3D
REFRESH-INTERVAL:P3D
CALSCALE:GREGORIAN
BEGIN:VEVENT
DTSTART:20151031T130000Z
DTEND:20151031T160000Z
X-MICROSOFT-CDO-ALLDAYEVENT:FALSE
SUMMARY:Halloween themed 5k walk/run hosted by the high school's Interact Club
DESCRIPTION:This run will go towards sponsoring the service projects we do throughout the year. The runners are encouraged to dress in costume\, and there will be a costume contest at the end of the run. It starts at 9 am and the rest of the information can be found at this website\, http://blairsvillecostumecrawl5k.weebly.com/
X-ALT-DESC;FMTTYPE=text/html:<span style="font-family: &quot\;Calibri&quot\;\,&quot\;sans-serif&quot\;\; font-size: 11pt\; mso-fareast-font-family: Calibri\; mso-fareast-theme-font: minor-latin\; mso-bidi-font-family: &quot\;Times New Roman&quot\;\; mso-ansi-language: EN-US\; mso-fareast-language: EN-US\; mso-bidi-language: AR-SA\;"><font color="#000000">This run will go towards sponsoring the service projects we do throughout the year. The runners are encouraged to dress in costume\, and there will be a costume contest at the end of the run. It starts at 9 am and the rest of the information can be found at this website\, </font><a href="http://blairsvillecostumecrawl5k.weebly.com/"><font color="#0000ff">http://blairsvillecostumecrawl5k.weebly.com/</font></a><font color="#000000"> </font></span>
LOCATION:Meeks Park\, Blairsville GA
UID:e.256.44348
SEQUENCE:3
DTSTAMP:20260423T103819Z
URL:https://members.visitblairsvillega.com/events/details/halloween-themed-5k-walk-run-hosted-by-the-high-school-s-interact-club-10-31-2015-44348
END:VEVENT

END:VCALENDAR
