BEGIN:VCALENDAR
VERSION:2.0
PRODID:-//ChamberMaster//Event Calendar 2.0//EN
METHOD:PUBLISH
X-PUBLISHED-TTL:P3D
REFRESH-INTERVAL:P3D
CALSCALE:GREGORIAN
BEGIN:VEVENT
DTSTART:20161029T230000Z
DTEND:20161030T030000Z
X-MICROSOFT-CDO-ALLDAYEVENT:FALSE
SUMMARY:HalloWine Dinner and Party at Hightower Creek Vineyards
DESCRIPTION:Join us Saturday\, October 29 for a special "HalloWine" Halloween Dinner and Party. Savor a three-course tapas menu prepared by Chef Karl Engelman of Hiawassee's Epic Catering while strolling the vineyards. Dance the night away to evening music by Rewind\, and end the night with s'mores over the bonfire.\n\nCostumes aren't required\, but the winning costume receives free admission to our next wine event. Other games and prizes throughout the evening.
X-ALT-DESC;FMTTYPE=text/html:<p>Join us Saturday\, October 29 for a special &ldquo\;HalloWine&rdquo\; Halloween Dinner and Party. Savor a three-course tapas menu prepared by Chef Karl Engelman of Hiawassee&rsquo\;s Epic Catering while strolling the vineyards. Dance the night away to evening music by Rewind\, and end the night with s&rsquo\;mores over the bonfire.</p>\n\n<p>Costumes aren&rsquo\;t required\, but the winning costume receives free admission to our next wine event. Other games and prizes throughout the evening.</p>\n
LOCATION:7150 Canaan Drive Hiawassee\, GA 30546
UID:e.256.59298
SEQUENCE:3
DTSTAMP:20260420T144734Z
URL:https://members.visitblairsvillega.com/events/details/hallowine-dinner-and-party-at-hightower-creek-vineyards-59298
END:VEVENT

END:VCALENDAR
