BEGIN:VCALENDAR
VERSION:2.0
PRODID:-//ChamberMaster//Event Calendar 2.0//EN
METHOD:PUBLISH
X-PUBLISHED-TTL:P3D
REFRESH-INTERVAL:P3D
CALSCALE:GREGORIAN
BEGIN:VEVENT
DTSTART:20161122T150000Z
DTEND:20161122T180000Z
X-MICROSOFT-CDO-ALLDAYEVENT:FALSE
SUMMARY:Hand Building Techniques with Clay
DESCRIPTION:What great fun to work with your hands and create art!  This pottery class is a wonderful way to develop your skills by using basic shapes to encourage you to develop your own style.  With a minimum of tools you can create functional pieces of art by molding and shaping with your own hands.  The project you will create in your class will be an option of a set of 4 bowls and tray or a decorative vase.  The techniques you will learn include coiling\, pinching and slab methods.  You will be able to use your bowls and or vase for years to come.  There is a supply fee which includes clay and glazes.  The supply list includes\;   newspaper\, clear plastic to wrap the clay\, old toothbrush\, flat wooden spoon\, small sponge\, stamps or texture material\, rolling pin if you have one and a board at least 12"X 12".  Be sure to wear clothes that you do not mind getting clay on or an apron.
X-ALT-DESC;FMTTYPE=text/html:<span style="color: rgb(70\, 70\, 70)\; font-family: &quot\;Open Sans&quot\;\, Helvetica\, sans-serif\; font-size: large\; background-color: rgb(255\, 255\, 255)\;">What great fun to work with your hands and create art!&nbsp\; This pottery class is a wonderful way to develop your skills by using basic shapes to encourage you to develop your own style.&nbsp\; With a minimum of tools you can create functional pieces of art by molding and shaping with your own hands.&nbsp\; The project you will create in your class will be an option of a set of 4 bowls and tray or a decorative vase. &nbsp\;The techniques you will learn include coiling\, pinching and slab methods.&nbsp\; You will be able to use your bowls and or vase for years to come.&nbsp\; There is a supply fee which includes clay and glazes. &nbsp\;The supply list includes\;&nbsp\; &nbsp\;newspaper\, clear plastic to wrap the clay\, old toothbrush\, flat wooden spoon\, small sponge\, stamps or texture material\, rolling pin if you have one and a board at least 12&rdquo\;X 12&rdquo\;.&nbsp\; Be sure to wear clothes that you do not mind getting clay on or an apron.</span>
LOCATION:The Art Center 420 West Main Street Blue Ridge\, GA 30513
UID:e.256.59475
SEQUENCE:3
DTSTAMP:20260420T111800Z
URL:https://members.visitblairsvillega.com/events/details/hand-building-techniques-with-clay-11-22-2016-59475
END:VEVENT

END:VCALENDAR
